BEGIN:VCALENDAR
VERSION:2.0
PRODID:-//Quality Mind Global - ECPv6.2.9//NONSGML v1.0//EN
CALSCALE:GREGORIAN
METHOD:PUBLISH
X-WR-CALNAME:Quality Mind Global
X-ORIGINAL-URL:https://qualitymind.atmstaginghub1.com
X-WR-CALDESC:Events for Quality Mind Global
REFRESH-INTERVAL;VALUE=DURATION:PT1H
X-Robots-Tag:noindex
X-PUBLISHED-TTL:PT1H
BEGIN:VTIMEZONE
TZID:Asia/Manila
BEGIN:STANDARD
TZOFFSETFROM:+0800
TZOFFSETTO:+0800
TZNAME:PST
DTSTART:20230101T000000
END:STANDARD
TZID:Australia/Melbourne
BEGIN:STANDARD
TZOFFSETFROM:+1100
TZOFFSETTO:+1000
TZNAME:AEST
DTSTART:20230401T160000
END:STANDARD
BEGIN:DAYLIGHT
TZOFFSETFROM:+1000
TZOFFSETTO:+1100
TZNAME:AEDT
DTSTART:20230930T160000
END:DAYLIGHT
BEGIN:STANDARD
TZOFFSETFROM:+1100
TZOFFSETTO:+1000
TZNAME:AEST
DTSTART:20240406T160000
END:STANDARD
BEGIN:DAYLIGHT
TZOFFSETFROM:+1000
TZOFFSETTO:+1100
TZNAME:AEDT
DTSTART:20241005T160000
END:DAYLIGHT
END:VTIMEZONE
BEGIN:VEVENT
DTSTART;TZID=Asia/Manila:20231121T070000
DTEND;TZID=Asia/Manila:20240514T080000
DTSTAMP:20260425T202503
CREATED:20231031T092239Z
LAST-MODIFIED:20231031T093019Z
UID:2270-1700550000-1715673600@qualitymind.atmstaginghub1.com
SUMMARY:New 6 Month Transform Program with Edwin Soriano
DESCRIPTION:How to Become the Best Version of You \nPERSONAL ACTIVATION SYSTEM™ \nTHE MAIN GOAL OF THIS PROGRAM IS \nOur signature Personal Activation System™ Program – Transform provides a deep dive into our 5-step Personal Activation System\,™ with life changing results that are GUARANTEED! \nAre you seeking a happier\, more fulfilling\, successful and abundant existence? \n​Could your inner fears\, uncertainty or limiting beliefs be preventing you from reaching your true potential? \n​Do you struggle to manage stress\, anxiety or overwhelm effectively? \n​Do you want to evolve from GOOD to GREAT and excel in all areas of your life? \nClick the link to the right for more information. \nHow to Become the Best Version of You! 6 Month Program Live Online Weekly 60min Sessions\, Starting 21st November 7am (PHT)! \nOnly 4 Spots Left\nOptimise every aspect of your life with our signature Personal Activation System™; for greater happiness\, success\, health\, wealth & fulfilment!\nAnd YES… we 100% Guarantee Your Results! \n  \n 
URL:https://qualitymind.atmstaginghub1.com/event/new-6-month-program-with-edwin-soriano/
LOCATION:Online Workshop
ATTACH;FMTTYPE=image/png:https://qualitymind.atmstaginghub1.com/wp-content/uploads/2023/01/Edwin20S.20Soriano20headshot202022.png
END:VEVENT
BEGIN:VEVENT
DTSTART;TZID=Australia/Melbourne:20231031T143000
DTEND;TZID=Australia/Melbourne:20240423T153000
DTSTAMP:20260425T202503
CREATED:20231025T094029Z
LAST-MODIFIED:20231027T033540Z
UID:2261-1698762600-1713886200@qualitymind.atmstaginghub1.com
SUMMARY:New 6 Month Transform Program with Leigh Stafford
DESCRIPTION:How to Become the Best Version of You \nPERSONAL ACTIVATION SYSTEM™ \nTHE MAIN GOAL OF THIS PROGRAM IS \nOur signature Personal Activation System™ Program – Transform provides a deep dive into our 5-step Personal Activation System\,™ with life changing results that are GUARANTEED! \nAre you seeking a happier\, more fulfilling\, successful and abundant existence? \n​Could your inner fears\, uncertainty or limiting beliefs be preventing you from reaching your true potential? \n​Do you struggle to manage stress\, anxiety or overwhelm effectively? \n​Do you want to evolve from GOOD to GREAT and excel in all areas of your life? \nClick the link to the right for more information. \nHow to Become the Best Version of You! 6 Month Program Live Online Weekly 60min Sessions\, Starting 31st October 2:30 pm (AEST)! \nOnly 4 Spots Left\nOptimise every aspect of your life with our signature Personal Activation System™; for greater happiness\, success\, health\, wealth & fulfilment!\nAnd YES… we 100% Guarantee Your Results! \n  \n 
URL:https://qualitymind.atmstaginghub1.com/event/new-6-month-program-with-leigh-stafford/
LOCATION:Online Workshop
ATTACH;FMTTYPE=image/png:https://qualitymind.atmstaginghub1.com/wp-content/uploads/2023/10/LStafford.png
ORGANIZER;CN="Leigh Stafford":MAILTO:leighstafford@qualitymindglobal.com
END:VEVENT
END:VCALENDAR